BEGIN:VCALENDAR
VERSION:2.0
PRODID:-//SHC - ECPv6.15.20//NONSGML v1.0//EN
CALSCALE:GREGORIAN
METHOD:PUBLISH
X-WR-CALNAME:SHC
X-ORIGINAL-URL:https://sephardi.co.za
X-WR-CALDESC:Events for SHC
REFRESH-INTERVAL;VALUE=DURATION:PT1H
X-Robots-Tag:noindex
X-PUBLISHED-TTL:PT1H
BEGIN:VTIMEZONE
TZID:UTC
BEGIN:STANDARD
TZOFFSETFROM:+0000
TZOFFSETTO:+0000
TZNAME:UTC
DTSTART:20250101T000000
END:STANDARD
END:VTIMEZONE
BEGIN:VEVENT
DTSTART;VALUE=DATE:20260421
DTEND;VALUE=DATE:20260422
DTSTAMP:20260421T013301
CREATED:20240326T075649Z
LAST-MODIFIED:20240326T075649Z
UID:4272-1776729600-1776815999@sephardi.co.za
SUMMARY:4th of Iyyar
DESCRIPTION:
URL:https://sephardi.co.za/event/4th-of-iyyar/
CATEGORIES:Hebrew Dates
END:VEVENT
BEGIN:VEVENT
DTSTART;VALUE=DATE:20260421
DTEND;VALUE=DATE:20260422
DTSTAMP:20260421T013301
CREATED:20240326T075649Z
LAST-MODIFIED:20240326T075649Z
UID:4273-1776729600-1776815999@sephardi.co.za
SUMMARY:Yom HaZikaron
DESCRIPTION:
URL:https://sephardi.co.za/event/yom-hazikaron-4/
CATEGORIES:Religious Holidays
END:VEVENT
END:VCALENDAR