BEGIN:VCALENDAR
VERSION:2.0
PRODID:-//SHC - ECPv6.15.20//NONSGML v1.0//EN
CALSCALE:GREGORIAN
METHOD:PUBLISH
X-WR-CALNAME:SHC
X-ORIGINAL-URL:https://sephardi.co.za
X-WR-CALDESC:Events for SHC
REFRESH-INTERVAL;VALUE=DURATION:PT1H
X-Robots-Tag:noindex
X-PUBLISHED-TTL:PT1H
BEGIN:VTIMEZONE
TZID:UTC
BEGIN:STANDARD
TZOFFSETFROM:+0000
TZOFFSETTO:+0000
TZNAME:UTC
DTSTART:20250101T000000
END:STANDARD
END:VTIMEZONE
BEGIN:VEVENT
DTSTART;VALUE=DATE:20260422
DTEND;VALUE=DATE:20260423
DTSTAMP:20260422T012250
CREATED:20240326T075650Z
LAST-MODIFIED:20240326T075650Z
UID:4274-1776816000-1776902399@sephardi.co.za
SUMMARY:5th of Iyyar
DESCRIPTION:
URL:https://sephardi.co.za/event/5th-of-iyyar-2/
CATEGORIES:Hebrew Dates
END:VEVENT
BEGIN:VEVENT
DTSTART;VALUE=DATE:20260422
DTEND;VALUE=DATE:20260423
DTSTAMP:20260422T012250
CREATED:20240326T075741Z
LAST-MODIFIED:20240326T075741Z
UID:4275-1776816000-1776902399@sephardi.co.za
SUMMARY:Yom HaAtzma’ut
DESCRIPTION:
URL:https://sephardi.co.za/event/yom-haatzmaut-5/
CATEGORIES:Religious Holidays
END:VEVENT
END:VCALENDAR